BEGIN:VCALENDAR
VERSION:2.0
PRODID:-//Manhattan Lyric Opera - ECPv5.1.1//NONSGML v1.0//EN
CALSCALE:GREGORIAN
METHOD:PUBLISH
X-WR-CALNAME:Manhattan Lyric Opera
X-ORIGINAL-URL:https://manhattanlyric.com
X-WR-CALDESC:Events for Manhattan Lyric Opera
BEGIN:VTIMEZONE
TZID:America/New_York
BEGIN:DAYLIGHT
TZOFFSETFROM:-0500
TZOFFSETTO:-0400
TZNAME:EDT
DTSTART:20190310T070000
END:DAYLIGHT
BEGIN:STANDARD
TZOFFSETFROM:-0400
TZOFFSETTO:-0500
TZNAME:EST
DTSTART:20191103T060000
END:STANDARD
END:VTIMEZONE
BEGIN:VEVENT
DTSTART;TZID=America/New_York:20191112T190000
DTEND;TZID=America/New_York:20191112T200000
DTSTAMP:20260422T212735
CREATED:20191016T231407Z
LAST-MODIFIED:20191017T014925Z
UID:848-1573585200-1573588800@manhattanlyric.com
SUMMARY:Chamber Music with a Twist!
DESCRIPTION:Shell Point Village- Presents – Manhattan Lyric Opera – Chamber Music with a Twist!\nChamber Music with a TWIST! A premiere chamber group with a twist! User-friendly classical pieces artistically woven in with beloved popular and broadway gems. \nFrancisca Mendoza\, Violinist\, Anne Tormela\, Soprano\, Elaine Rinaldi\, Pianist\nWith works from Strauss\, Tchaikovsky\, Rachmaninoff\, Villa-Lobos\, Kroll\, and popular songs from Barbara Streisand\, Franz Lehar and more!\nCome and be delighted by unique arrangements of gorgeous classical musical pieces of Spanish\, Italian\, English\, French and Russian classics and popular gems such as popular Barbara Streisand songs\, (ergo The Twist!) Broadway classics and well known beloved Operetta selections. Not to be missed world renowned musicians Francisca Mendoza (violinist) born of a Chilean musical family extraordinaire and Anne Tormela\, international Opera/Broadway singer from Manhattan Lyric Opera and acclaimed pianist and conductor Elaine Rinaldi. Three sirens of music will enchant you! \n\nLocation: Grand Cypress Room/WL\nDate: Tuesday\, November 12\, 2019\nTime: 7:00 pm\nPrice: $30 \n15101 Shell Point Blvd\, Fort Myers\, FL 33908\nPhone: (800) 780-1131\n\nFeaturing:\nFrancisca Mendoza\, Violinist\nAnne Tormela\, Soprano\nElaine Rinaldi\, Pianist\n\n\n\n
URL:https://manhattanlyric.com/event/chamber-music-with-a-twist/
LOCATION:Shell Point Village\, 15101 Shell Point Blvd\, Fort Myers\, FL\, 33908\, United States
CATEGORIES:Tribute to Legends 2024
ATTACH;FMTTYPE=image/jpeg:https://manhattanlyric.com/wp-content/uploads/2019/10/Trio-Banner-2019.jpg
ORGANIZER;CN="The%20Manhattan%20Lyric%20Opera-POP%20Company%20%28MLO-POP%21%29":MAILTO:info@manhattanlyric.com
GEO:26.5182318;-81.9972156
X-APPLE-STRUCTURED-LOCATION;VALUE=URI;X-ADDRESS=Shell Point Village 15101 Shell Point Blvd Fort Myers FL 33908 United States;X-APPLE-RADIUS=500;X-TITLE=15101 Shell Point Blvd:geo:-81.9972156,26.5182318
END:VEVENT
END:VCALENDAR